BEGIN:VCALENDAR
VERSION:2.0
PRODID:-//kremlin.ru/Kremlin Calendar//RU
METHOD:PUBLISH
URL:http://kremlin.ru/acts/assignments/items/66331/ical-8.ics
BEGIN:VEVENT
SUMMARY:Пр-1383\, п.2в
DTSTART;VALUE=DATE:20210820
DTEND;VALUE=DATE:20210821
UID:assignment-7270_8@kremlin.ru
DESCRIPTION:в) сопоставимость отчетных данных
  (квартальных и годовых) об уровне беднос
 ти предыдущих периодов с данными текуще
 го и среднесрочного периодов.Срок – 20 ав
 густа 2021 г.\;
END:VEVENT
END:VCALENDAR
