BEGIN:VCALENDAR
VERSION:2.0
PRODID:-//kremlin.ru/Kremlin Calendar//RU
METHOD:PUBLISH
URL:http://kremlin.ru/acts/assignments/items/66331/ical-7.ics
BEGIN:VEVENT
SUMMARY:Пр-1383\, п.2б-2
DTSTART;VALUE=DATE:20210915
DTEND;VALUE=DATE:20210916
UID:assignment-7269_7@kremlin.ru
DESCRIPTION:корректировку показателя бедност
 и населения с учетом фактически достигн
 утой положительной динамики данного пок
 азателя в 2020 году\, а также дополнительны
 х мер\, реализуемых по повышению доходов 
 населения\, включая семьи с детьми.Срок 
 – 15 сентября 2021 г.\;
END:VEVENT
END:VCALENDAR
