BEGIN:VCALENDAR
VERSION:2.0
PRODID:-//kremlin.ru/Kremlin Calendar//RU
METHOD:PUBLISH
URL:http://kremlin.ru/acts/assignments/items/66331/ical-2.ics
BEGIN:VEVENT
SUMMARY:Пр-1383\, п.1в
DTSTART;VALUE=DATE:20211101
DTEND;VALUE=DATE:20211102
UID:assignment-7264_2@kremlin.ru
DESCRIPTION:в) организовать регулярный монито
 ринг доходов низкодоходных групп гражда
 н и при необходимости обеспечить реализ
 ацию дополнительных мер социальной подд
 ержки в целях недопущения снижения в реа
 льном выражении доходов низкодоходных г
 рупп граждан и обеспечения их роста.Докл
 ад – 1 ноября 2021 г.\, далее – один раз в по
 лгода\;
END:VEVENT
END:VCALENDAR
