BEGIN:VCALENDAR
VERSION:2.0
PRODID:-//kremlin.ru/Kremlin Calendar//RU
METHOD:PUBLISH
URL:http://kremlin.ru/acts/assignments/items/66210/ical-5.ics
BEGIN:VEVENT
SUMMARY:Пр-1249\, п.1 в-3
DTSTART;VALUE=DATE:20211101
DTEND;VALUE=DATE:20211102
UID:assignment-7251_5@kremlin.ru
DESCRIPTION:развитие транспортной и инженерн
 ой инфраструктуры на сельских территори
 ях.Доклад – до 1 ноября 2021 г.\;
END:VEVENT
END:VCALENDAR
