BEGIN:VCALENDAR
VERSION:2.0
PRODID:-//kremlin.ru/Kremlin Calendar//RU
METHOD:PUBLISH
URL:http://kremlin.ru/acts/assignments/items/66210/ical-2.ics
BEGIN:VEVENT
SUMMARY:Пр-1249\, п.1 б-2
DTSTART;VALUE=DATE:20210801
DTEND;VALUE=DATE:20210802
UID:assignment-7248_2@kremlin.ru
DESCRIPTION:в размере 30 млрд. рублей – на реал
 изацию мероприятий по ремонту автомобил
 ьных дорог регионального и местного зна
 чения.Доклад – до 1 августа 2021 г.\;
END:VEVENT
END:VCALENDAR
