BEGIN:VCALENDAR
VERSION:2.0
PRODID:-//kremlin.ru/Kremlin Calendar//RU
METHOD:PUBLISH
URL:http://kremlin.ru/acts/assignments/items/66210/ical-15.ics
BEGIN:VEVENT
SUMMARY:Пр-1249\, п.5
DTSTART;VALUE=DATE:20211101
DTEND;VALUE=DATE:20211102
UID:assignment-7261_15@kremlin.ru
DESCRIPTION:5. Правительству Российской Федер
 ации совместно с Государственной Думой 
 Федерального Собрания Российской Федер
 ации обеспечить внесение в законодатель
 ство Российской Федерации изменений\, пр
 едусматривающих освобождение семей с дв
 умя и более детьми от уплаты налога на до
 ходы физических лиц при продаже жилого п
 омещения\, находящегося в собственности 
 менее пяти лет\, в случае направления в т
 ечение календарного года полученных от 
 его продажи средств на покупку иного жил
 ого помещения в целях улучшения жилищны
 х условий.Доклад – до 1 ноября 2021 г.Ответ
 ственные: Мишустин М.В.\, Володин В.В.
END:VEVENT
END:VCALENDAR
