BEGIN:VCALENDAR
VERSION:2.0
PRODID:-//kremlin.ru/Kremlin Calendar//RU
METHOD:PUBLISH
URL:http://kremlin.ru/acts/assignments/items/66210/ical-14.ics
BEGIN:VEVENT
SUMMARY:Пр-1249\, п.4
DTSTART;VALUE=DATE:20220131
DTEND;VALUE=DATE:20220201
UID:assignment-7260_14@kremlin.ru
DESCRIPTION:4. Правительству Российской Федер
 ации совместно со Всероссийской политич
 еской партией «Единая Россия» рассмотре
 ть вопрос о создании в малых городах и се
 льских населённых пунктах современной с
 оциальной инфраструктуры для организац
 ии активного отдыха граждан и занятий сп
 ортом.Доклад – до 31 января 2022 г.\, далее –
  один раз в полгода.Ответственные: Мишус
 тин М.В.\, Турчак А.А.
END:VEVENT
END:VCALENDAR
