BEGIN:VCALENDAR
VERSION:2.0
PRODID:-//kremlin.ru/Kremlin Calendar//RU
METHOD:PUBLISH
URL:http://kremlin.ru/acts/assignments/items/66156/ical-6.ics
BEGIN:VEVENT
SUMMARY:Пр-1170\, п.3а
DTSTART;VALUE=DATE:20211231
DTEND;VALUE=DATE:20220101
UID:assignment-7230_6@kremlin.ru
DESCRIPTION:3. Правительству Российской Федер
 ации совместно с Государственной Думой 
 Федерального Собрания Российской Федер
 ации обеспечить внесение изменений в за
 конодательство Российской Федерации\, п
 редусматривающих:а) установление мер от
 ветственности за нарушение требований п
 о оснащению стационарных источников выб
 росов загрязняющих веществ\, сбросов заг
 рязняющих веществ системами автоматиче
 ского контроля и по предоставлению в гос
 ударственные органы информации\, получе
 нной с использованием таких систем.Срок 
 – 31 декабря 2021 г.\;
END:VEVENT
END:VCALENDAR
