BEGIN:VCALENDAR
VERSION:2.0
PRODID:-//kremlin.ru/Kremlin Calendar//RU
METHOD:PUBLISH
URL:http://kremlin.ru/acts/assignments/items/66156/ical-15.ics
BEGIN:VEVENT
SUMMARY:Пр-1170\, п.10
DTSTART;VALUE=DATE:20210901
DTEND;VALUE=DATE:20210902
UID:assignment-7239_15@kremlin.ru
DESCRIPTION:10. Генеральной прокуратуре Россий
 ской Федерации проверить соблюдение тре
 бований жилищного законодательства Рос
 сийской Федерации при переселении жител
 ей поселка Демьянка Уватского района Тю
 менской области из аварийного жилищного
  фонда\, в том числе в части обоснованнос
 ти начислений платежей за жилищно-комму
 нальные услуги.Доклад – до 1 сентября 2021 
 г. Ответственный: Краснов И.В.
END:VEVENT
END:VCALENDAR
