BEGIN:VCALENDAR
VERSION:2.0
PRODID:-//kremlin.ru/Kremlin Calendar//RU
METHOD:PUBLISH
URL:http://kremlin.ru/acts/assignments/items/65937/ical-27.ics
BEGIN:VEVENT
SUMMARY:Пр-1096\, п.7
DTSTART;VALUE=DATE:20211001
DTEND;VALUE=DATE:20211002
UID:assignment-7222_27@kremlin.ru
DESCRIPTION:7. Полномочным представителям Пре
 зидента Российской Федерации в федераль
 ных округах усилить координацию деятель
 ности федеральных органов исполнительн
 ой власти и органов государственной вла
 сти субъектов Российской Федерации\, нап
 равленной на улучшение делового климата
  и достижение в субъектах Российской Фед
 ерации целевых показателей роста объёма
  инвестиций в основной капитал\, в том чи
 сле деятельности по развитию межрегиона
 льной кооперации.Доклад – до 1 октября 202
 1 г.\, далее – один раз в год.Ответственны
 е: полномочные представители Президента
  Российской Федерации в федеральных окр
 угах.
END:VEVENT
END:VCALENDAR
