BEGIN:VCALENDAR
VERSION:2.0
PRODID:-//kremlin.ru/Kremlin Calendar//RU
METHOD:PUBLISH
URL:http://kremlin.ru/acts/assignments/items/65937/ical-21.ics
BEGIN:VEVENT
SUMMARY:Пр-1096\, п.2 г)
DTSTART;VALUE=DATE:20211101
DTEND;VALUE=DATE:20211102
UID:assignment-7217_21@kremlin.ru
DESCRIPTION:г) создать систему поддержки новы
 х инвестиционных проектов (исходя в том 
 числе из приоритетных направлений разви
 тия территорий субъектов Российской Фед
 ерации) и обеспечить её внедрение к 2024 го
 ду во всех субъектах Российской Федерац
 ии\, в первую очередь в субъектах Российс
 кой Федерации\, в которых привлечение ин
 вестиций находится на низком уровне.Док
 лад – до 1 ноября 2021 г.\, далее – один раз 
 в полгода.Ответственные: Мишустин М.В.\, в
 ысшие должностные лица (руководители вы
 сших исполнительных органов государств
 енной власти) субъектов Российской Феде
 рации.
END:VEVENT
END:VCALENDAR
