BEGIN:VCALENDAR
VERSION:2.0
PRODID:-//kremlin.ru/Kremlin Calendar//RU
METHOD:PUBLISH
URL:http://kremlin.ru/acts/assignments/items/65937/ical-14.ics
BEGIN:VEVENT
SUMMARY:Пр-1096\, п.1 и)-3
DTSTART;VALUE=DATE:20211001
DTEND;VALUE=DATE:20211002
UID:assignment-7210_14@kremlin.ru
DESCRIPTION:меры по повышению инвестиционной 
 привлекательности таких проектов\;
END:VEVENT
END:VCALENDAR
