BEGIN:VCALENDAR
VERSION:2.0
PRODID:-//kremlin.ru/Kremlin Calendar//RU
METHOD:PUBLISH
URL:http://kremlin.ru/acts/assignments/items/65926/ical-3.ics
BEGIN:VEVENT
SUMMARY:Пр-1093\, 3
DTSTART;VALUE=DATE:20211001
DTEND;VALUE=DATE:20211002
UID:assignment-7195_3@kremlin.ru
DESCRIPTION:3. Полномочным представителям Пре
 зидента Российской Федерации в федераль
 ных округах совместно с органами исполн
 ительной власти субъектов Российской Фе
 дерации рассмотреть вопрос о предоставл
 ении помещений\, находящихся в государст
 венной и муниципальной собственности\, в
  долгосрочное безвозмездное пользовани
 е Общероссийской общественной организа
 ции «Российский Красный Крест» и ее отде
 лениям для осуществления деятельности в
  соответствии с законодательством Росси
 йской Федерации.Доклад – до 1 октября 2021 
 г.Ответственные: полномочные представит
 ели Президента Российской Федерации в ф
 едеральных округах\, высшие должностные 
 лица (руководители высших исполнительны
 х органов государственной власти) субъе
 ктов Российской Федерации.
END:VEVENT
END:VCALENDAR
