BEGIN:VCALENDAR
VERSION:2.0
PRODID:-//kremlin.ru/Kremlin Calendar//RU
METHOD:PUBLISH
URL:http://kremlin.ru/acts/assignments/items/65926/ical-2.ics
BEGIN:VEVENT
SUMMARY:Пр-1093\, 2 в)
DTSTART;VALUE=DATE:20221230
DTEND;VALUE=DATE:20221231
UID:assignment-7194_2@kremlin.ru
DESCRIPTION:в) обеспечить в течение 2022 года вн
 едрение во всех субъектах Российской Фе
 дерации системы долговременного ухода з
 а гражданами пожилого возраста и инвали
 дами\, определив источник финансировани
 я этой системы.Доклад – до 15 января 2022 г. 
 и до 30 декабря 2022 г.Ответственный: Мишуст
 ин М.В.
END:VEVENT
END:VCALENDAR
