BEGIN:VCALENDAR
VERSION:2.0
PRODID:-//kremlin.ru/Kremlin Calendar//RU
METHOD:PUBLISH
URL:http://kremlin.ru/acts/assignments/items/65926/ical-1.ics
BEGIN:VEVENT
SUMMARY:Пр-1093\, 2 б)
DTSTART;VALUE=DATE:20211230
DTEND;VALUE=DATE:20211231
UID:assignment-7193_1@kremlin.ru
DESCRIPTION:б) обеспечить содействие Ассоциац
 ии волонтерских центров и Благотворител
 ьному фонду «Память поколений» в реализ
 ации программы «Молоды душой»\, направле
 нной на создание региональных центров в
 олонтерской деятельности граждан предп
 енсионного и пенсионного возраста\, пред
 усмотрев выделение на эти цели начиная с
  2022 года необходимых бюджетных ассигнов
 аний из федерального бюджета.Доклад – д
 о 15 августа 2021 г. и до 30 декабря 2021 г.\;
END:VEVENT
END:VCALENDAR
