BEGIN:VCALENDAR
VERSION:2.0
PRODID:-//kremlin.ru/Kremlin Calendar//RU
METHOD:PUBLISH
URL:http://kremlin.ru/acts/assignments/items/65892/ical-4.ics
BEGIN:VEVENT
SUMMARY:Пр-950\, п.1 в)
DTSTART;VALUE=DATE:20220530
DTEND;VALUE=DATE:20220531
UID:assignment-7183_4@kremlin.ru
DESCRIPTION:в) предусмотреть реализацию перво
 очередных мероприятий\, направленных на 
 строительство (реконструкцию) транспорт
 ной\, коммунальной\, социальной и иной ин
 фраструктур территорий\, примыкающих к Б
 айкало-Амурской и Транссибирской магист
 ралям в Сибирском и Дальневосточном фед
 еральных округах\, в том числе в рамках Н
 ациональной программы социально-эконом
 ического развития Дальнего Востока на п
 ериод до 2024 года и на перспективу до 2035 г
 ода.Доклад – до 30 мая 2022 г.\;
END:VEVENT
END:VCALENDAR
