BEGIN:VCALENDAR
VERSION:2.0
PRODID:-//kremlin.ru/Kremlin Calendar//RU
METHOD:PUBLISH
URL:http://kremlin.ru/acts/assignments/items/65864/ical-2.ics
BEGIN:VEVENT
SUMMARY:Пр-1003\, п.2
DTSTART;VALUE=DATE:20210630
DTEND;VALUE=DATE:20210701
UID:assignment-7178_2@kremlin.ru
DESCRIPTION:2. Рекомендовать Верховному Суду Р
 оссийской Федерации совместно с Минтруд
 ом России установить механизм взаимодей
 ствия судебных органов с Пенсионным фон
 дом Российской Федерации по предоставле
 нию\, в том числе в электронном виде\, све
 дений о судебных решениях по назначению 
 алиментов\, необходимых для установлени
 я ежемесячного пособия на ребёнка в возр
 асте от 8 до 17 лет\, предусмотренного Феде
 ральным законом от 26 мая 2021 г. № 151-ФЗ «О в
 несении изменений в отдельные законодат
 ельные акты Российской Федерации».Срок 
 – до 30 июня 2021 г.Ответственные: Лебедев В
 .М.\, Котяков А.О.\, Кигим А.С.
END:VEVENT
END:VCALENDAR
