BEGIN:VCALENDAR
VERSION:2.0
PRODID:-//kremlin.ru/Kremlin Calendar//RU
METHOD:PUBLISH
URL:http://kremlin.ru/acts/assignments/items/65864/ical-0.ics
BEGIN:VEVENT
SUMMARY:Пр-1003\, п.1 а)
DTSTART;VALUE=DATE:20210915
DTEND;VALUE=DATE:20210916
UID:assignment-7176_0@kremlin.ru
DESCRIPTION:1. Правительству Российской Федер
 ации с учётом ранее данных поручений обе
 спечить:а) распространение права на полу
 чение с 1 июля 2021 года ежемесячного пособ
 ия на ребёнка в возрасте от 8 до 17 лет на о
 пекуна (попечителя) ребёнка в случае сме
 рти родителей или единственного родител
 я ребёнка\;
END:VEVENT
END:VCALENDAR
