BEGIN:VCALENDAR
VERSION:2.0
PRODID:-//kremlin.ru/Kremlin Calendar//RU
METHOD:PUBLISH
URL:http://kremlin.ru/acts/assignments/items/65625/ical-0.ics
BEGIN:VEVENT
SUMMARY:Пр-832\, п.1-1
DTSTART;VALUE=DATE:20210901
DTEND;VALUE=DATE:20210902
UID:assignment-7147_0@kremlin.ru
DESCRIPTION:1. Правительству Российской Федер
 ации совместно с автономной некоммерчес
 кой организацией «Агентство стратегиче
 ских инициатив по продвижению новых про
 ектов» с участием комиссий Государствен
 ного Совета Российской Федерации по нап
 равлениям «Государственное и муниципал
 ьное управление»\, «Социальная политика
 »\, «Здравоохранение» и «Образование»:пр
 овести анализ нормативных правовых акто
 в\, регулирующих предоставление услуг в 
 организациях социальной сферы и внести 
 необходимые изменения\, в том числе с уче
 том предложений автономной некоммерчес
 кой организации «Агентство стратегичес
 ких инициатив по продвижению новых прое
 ктов» (дорожные карты «Социальная защит
 а» и «Рынок труда и поддержка занятости»
 )\, устраняющие избыточные барьеры\, необ
 основанные процедуры\, ограничивающие п
 рава граждан на получение таких услуг\;
END:VEVENT
END:VCALENDAR
