BEGIN:VCALENDAR
VERSION:2.0
PRODID:-//kremlin.ru/Kremlin Calendar//RU
METHOD:PUBLISH
URL:http://kremlin.ru/acts/assignments/items/65624/ical-9.ics
BEGIN:VEVENT
SUMMARY:Пр-831\, п.5
DTSTART;VALUE=DATE:20211101
DTEND;VALUE=DATE:20211102
UID:assignment-7145_9@kremlin.ru
DESCRIPTION:5. Министерству внутренних дел Рос
 сийской Федерации провести оценку право
 вого регулирования и правоприменительн
 ой практики в части\, касающейся продлен
 ия срока временного пребывания в Россий
 ской Федерации несовершеннолетних инос
 транных граждан\, родители (законные пре
 дставители) которых имеют право на време
 нное пребывание\, временное и постоянное
  проживание в Российской Федерации\, при
 нять меры по устранению выявленных недо
 статков и при необходимости представить
  предложения о внесении соответствующих
  изменений в законодательство Российско
 й Федерации.Срок – 1 ноября 2021 г.Ответств
 енный: Колокольцев В.А.
END:VEVENT
END:VCALENDAR
