BEGIN:VCALENDAR
VERSION:2.0
PRODID:-//kremlin.ru/Kremlin Calendar//RU
METHOD:PUBLISH
URL:http://kremlin.ru/acts/assignments/items/65624/ical-4.ics
BEGIN:VEVENT
SUMMARY:Пр-831\, п.2б-1
DTSTART;VALUE=DATE:20210901
DTEND;VALUE=DATE:20210902
UID:assignment-7140_4@kremlin.ru
DESCRIPTION:б) принять меры в целях обеспечени
 я:учета находящихся на территории Росси
 йской Федерации несовершеннолетних ино
 странных граждан\, подлежащих обучению п
 о образовательным программам дошкольно
 го\, начального общего\, основного общего
  и среднего общего образования\, а также 
 реализации прав этих граждан на образов
 ание\;
END:VEVENT
END:VCALENDAR
