BEGIN:VCALENDAR
VERSION:2.0
PRODID:-//kremlin.ru/Kremlin Calendar//RU
METHOD:PUBLISH
URL:http://kremlin.ru/acts/assignments/items/65624/ical-10.ics
BEGIN:VEVENT
SUMMARY:Пр-831\, п.6
DTSTART;VALUE=DATE:20211101
DTEND;VALUE=DATE:20211102
UID:assignment-7146_10@kremlin.ru
DESCRIPTION:6. Федеральной службе государстве
 нной статистики совместно с Генеральной
  прокуратурой Российской Федерации при 
 проведении в 2021 году Всероссийской пере
 писи населения обеспечить выполнение тр
 ебований законодательства Российской Ф
 едерации\, в том числе в части\, касающейс
 я соблюдения условий для свободного опр
 еделения гражданами своей национальной 
 и языковой принадлежности\, обратив особ
 ое внимание на недопущение дискриминаци
 и по признаку социальной\, национальной\,
  языковой или религиозной принадлежност
 и.Доклад – до 1 ноября 2021 г.Ответственные
 : Малков П.В.\, Краснов И.В.
END:VEVENT
END:VCALENDAR
