BEGIN:VCALENDAR
VERSION:2.0
PRODID:-//kremlin.ru/Kremlin Calendar//RU
METHOD:PUBLISH
URL:http://kremlin.ru/acts/assignments/items/65594/ical-4.ics
BEGIN:VEVENT
SUMMARY:Пр-808\, п.1б-4
DTSTART;VALUE=DATE:20211201
DTEND;VALUE=DATE:20211202
UID:assignment-7128_4@kremlin.ru
DESCRIPTION:определение порядка передачи пит
 омцев в приюты при невозможности их соде
 ржания либо изъятия и размещения в них в 
 случае ненадлежащего обращения\;
END:VEVENT
END:VCALENDAR
