BEGIN:VCALENDAR
VERSION:2.0
PRODID:-//kremlin.ru/Kremlin Calendar//RU
METHOD:PUBLISH
URL:http://kremlin.ru/acts/assignments/items/65524/ical-43.ics
BEGIN:VEVENT
SUMMARY:Пр-753\, п.6 а)
DTSTART;VALUE=DATE:20210615
DTEND;VALUE=DATE:20210616
UID:assignment-7065_43@kremlin.ru
DESCRIPTION:6. Правительству Российской Федер
 ации совместно с Банком России и Государ
 ственной Думой Федерального Собрания Ро
 ссийской Федерации обеспечить внесение 
 в законодательство Российской Федераци
 и изменений\, предусматривающих:а) сниже
 ние издержек российских несырьевых неэн
 ергетических экспортеров\, предусмотрев
  с 1 июля 2021 г. отмену требования о репатр
 иации ими экспортной выручки в иностран
 ной валюте.Срок – 15 июня 2021 г.\;
END:VEVENT
END:VCALENDAR
