BEGIN:VCALENDAR
VERSION:2.0
PRODID:-//kremlin.ru/Kremlin Calendar//RU
METHOD:PUBLISH
URL:http://kremlin.ru/acts/assignments/items/65524/ical-35.ics
BEGIN:VEVENT
SUMMARY:Пр-753\, п.4 г)
DTSTART;VALUE=DATE:20210601
DTEND;VALUE=DATE:20210602
UID:assignment-7057_35@kremlin.ru
DESCRIPTION:г) обеспечить утверждение порядка
  расчета объема предоставляемых субъект
 ам Российской Федерации (на срок не мене
 е 15 лет по ставке не более 3 процентов год
 овых) инфраструктурных бюджетных кредит
 ов на осуществление расходов инвестицио
 нного характера\, включая строительство 
 (реконструкцию) объектов транспортной\, 
 инженерной\, коммунальной\, социальной\, 
 туристской инфраструктур\, инвестиции в 
 общественный транспорт\, с учетом резуль
 татов проводимой ими ранее долговой пол
 итики\;
END:VEVENT
END:VCALENDAR
