BEGIN:VCALENDAR
VERSION:2.0
PRODID:-//kremlin.ru/Kremlin Calendar//RU
METHOD:PUBLISH
URL:http://kremlin.ru/acts/assignments/items/65524/ical-3.ics
BEGIN:VEVENT
SUMMARY:Пр-753\, п.1 г)
DTSTART;VALUE=DATE:20210901
DTEND;VALUE=DATE:20210902
UID:assignment-7025_3@kremlin.ru
DESCRIPTION:г) предоставление в августе 2021 г. е
 диновременной выплаты в размере 10 тыс. р
 ублей семьям\, имеющим детей в возрасте о
 т 6 до 18 лет\, предусмотрев для школьников
 -инвалидов особый порядок осуществления
  такой выплаты.Доклад – до 1 сентября 2021 
 г.\;
END:VEVENT
END:VCALENDAR
