BEGIN:VCALENDAR
VERSION:2.0
PRODID:-//kremlin.ru/Kremlin Calendar//RU
METHOD:PUBLISH
URL:http://kremlin.ru/acts/assignments/items/65524/ical-26.ics
BEGIN:VEVENT
SUMMARY:Пр-753\, п.3 а)
DTSTART;VALUE=DATE:20210701
DTEND;VALUE=DATE:20210702
UID:assignment-7048_26@kremlin.ru
DESCRIPTION:3. Правительству Российской Федер
 ации:а) представить для обсуждения на за
 седании Совета при Президенте Российско
 й Федерации по стратегическому развитию
  и национальным проектам с участием проф
 ильных комиссий Государственного Совет
 а Российской Федерации\, Общественной па
 латы Российской Федерации\, представите
 лей ведущих деловых объединений и экспе
 ртного сообщества предложения по формир
 ованию широкого перечня новых инициатив
  социально-экономического развития Росс
 ийской Федерации\, направленных на дости
 жение национальных целей развития Росси
 йской Федерации и обеспечивающих в том ч
 исле решение задач\, поставленных в Посл
 ании Президента Российской Федерации Фе
 деральному Собранию Российской Федерац
 ии от 21 апреля 2021 г.Срок – 1 июля 2021 г.\;
END:VEVENT
END:VCALENDAR
