BEGIN:VCALENDAR
VERSION:2.0
PRODID:-//kremlin.ru/Kremlin Calendar//RU
METHOD:PUBLISH
URL:http://kremlin.ru/acts/assignments/items/65524/ical-1.ics
BEGIN:VEVENT
SUMMARY:Пр-753\, п.1 б)
DTSTART;VALUE=DATE:20210915
DTEND;VALUE=DATE:20210916
UID:assignment-7023_1@kremlin.ru
DESCRIPTION:б) предоставление с 1 июля 2021 г. еже
 месячной выплаты детям в возрасте от 8 до
  17 лет в размере 1/2 величины прожиточного
  минимума ребенка\, установленной в субъ
 екте Российской Федерации\, которые прож
 ивают в семьях с единственным родителем 
 или семьях\, имеющих в соответствии с суд
 ебным решением право на получение алиме
 нтов и не получающих их\, в случае если та
 кие семьи признаны нуждающимися или ост
 аются таковыми после получения алименто
 в.Доклад – до 15 сентября 2021 г.\;
END:VEVENT
END:VCALENDAR
