BEGIN:VCALENDAR
VERSION:2.0
PRODID:-//kremlin.ru/Kremlin Calendar//RU
METHOD:PUBLISH
URL:http://kremlin.ru/acts/assignments/items/65277/ical-12.ics
BEGIN:VEVENT
SUMMARY:Пр-520\, п.2б
DTSTART;VALUE=DATE:20210601
DTEND;VALUE=DATE:20210602
UID:assignment-7105_12@kremlin.ru
DESCRIPTION:б) представить предложения по пов
 ышению предложения на первичном рынке ж
 илья в субъектах Российской Федерации\, 
 входящих в состав Дальневосточного феде
 рального округа\, в том числе в рамках пр
 ограммы «Стимул» национального проекта 
 «Жилье и городская среда»\;
END:VEVENT
END:VCALENDAR
