BEGIN:VCALENDAR
VERSION:2.0
PRODID:-//kremlin.ru/Kremlin Calendar//RU
METHOD:PUBLISH
URL:http://kremlin.ru/acts/assignments/items/65225/ical-0.ics
BEGIN:VEVENT
SUMMARY:Пр-457\, п.1 а)
DTSTART;VALUE=DATE:20210501
DTEND;VALUE=DATE:20210502
UID:assignment-6954_0@kremlin.ru
DESCRIPTION:1. Правительству Российской Федер
 ации:а) рассмотреть совместно с Государс
 твенной Думой Федерального Собрания Рос
 сийской Федерации вопрос о сохранении п
 овышенного размера фиксированной выпла
 ты к страховой пенсии по старости и к стр
 аховой пенсии по инвалидности лицам\, пр
 оработавшим не менее 30 календарных лет в
  сельском хозяйстве\, в случае выезда так
 их лиц на новое место жительства за пред
 елы сельской местности\, а также предста
 вить предложения о внесении в законодат
 ельство Российской Федерации соответст
 вующих изменений\;
END:VEVENT
END:VCALENDAR
