BEGIN:VCALENDAR
VERSION:2.0
PRODID:-//kremlin.ru/Kremlin Calendar//RU
METHOD:PUBLISH
URL:http://kremlin.ru/acts/assignments/items/65171/ical-10.ics
BEGIN:VEVENT
SUMMARY:Пр-419\, п.2
DTSTART;VALUE=DATE:20210701
DTEND;VALUE=DATE:20210702
UID:assignment-6953_10@kremlin.ru
DESCRIPTION:2. Рекомендовать палатам Федераль
 ного Собрания Российской Федерации обес
 печить рассмотрение проекта федерально
 го закона № 1076089–7 «О внесении изменений
  в Федеральный закон «Об образовании в Р
 оссийской Федерации» в части совершенст
 вования регулирования применения профе
 ссиональных стандартов в сфере професси
 онального образования».Срок – 1 июля 2021 
 г. Ответственные: Матвиенко В.И.\, Володин
  В.В.
END:VEVENT
END:VCALENDAR
