BEGIN:VCALENDAR
VERSION:2.0
PRODID:-//kremlin.ru/Kremlin Calendar//RU
METHOD:PUBLISH
URL:http://kremlin.ru/acts/assignments/items/65129/ical-3.ics
BEGIN:VEVENT
SUMMARY:Пр-366\, п.2 б)-1
DTSTART;VALUE=DATE:20210420
DTEND;VALUE=DATE:20210421
UID:assignment-6939_3@kremlin.ru
DESCRIPTION:б) по результатам анализа\, провед
 ённого в соответствии с пунктом 1 настоя
 щего перечня поручений\, обеспечить устр
 анение причин\, по которым не были достиг
 нуты целевые показатели оплаты труда ра
 ботников организаций бюджетной сферы\, у
 становленные Указом Президента Российс
 кой Федерации от 7 мая 2012 г. № 597\, и осущес
 твить комплекс мер\, направленных на сов
 ершенствование системы оплаты труда раб
 отников этих организаций\, в том числе:да
 ть нормативно-правовое толкование понят
 ия «средний доход от трудовой деятельно
 сти» и определить соотношение такого до
 хода со средней заработной платой в субъ
 екте Российской Федерации\;
END:VEVENT
END:VCALENDAR
