BEGIN:VCALENDAR
VERSION:2.0
PRODID:-//kremlin.ru/Kremlin Calendar//RU
METHOD:PUBLISH
URL:http://kremlin.ru/acts/assignments/items/65129/ical-2.ics
BEGIN:VEVENT
SUMMARY:Пр-366\, п.2 а)
DTSTART;VALUE=DATE:20210420
DTEND;VALUE=DATE:20210421
UID:assignment-6938_2@kremlin.ru
DESCRIPTION:2. Правительству Российской Федер
 ации:а) с учётом ранее данных поручений о
 беспечить доработку и завершение в меся
 чный срок согласования проекта федераль
 ного закона «О внесении изменений в Феде
 ральный закон «О несостоятельности (бан
 кротстве)» и отдельные законодательные 
 акты Российской Федерации» (с учётом поз
 иции Администрации Президента Российск
 ой Федерации)\;
END:VEVENT
END:VCALENDAR
