BEGIN:VCALENDAR
VERSION:2.0
PRODID:-//kremlin.ru/Kremlin Calendar//RU
METHOD:PUBLISH
URL:http://kremlin.ru/acts/assignments/items/65100/ical-6.ics
BEGIN:VEVENT
SUMMARY:Пр-355\, п.2 в)
DTSTART;VALUE=DATE:20210901
DTEND;VALUE=DATE:20210902
UID:assignment-6935_6@kremlin.ru
DESCRIPTION:в) разработать и утвердить план ме
 роприятий («дорожную карту») по профилак
 тике социального сиротства на 2022–2025 год
 ы\, предусмотрев в нем в том числе соверш
 енствование положений законодательства
  Российской Федерации о поддержке\, укре
 плении и защите семьи\, сохранении семей
 ных ценностей.Срок – 1 сентября 2021 г.Отве
 тственные: Мишустин М.В.\, высшие должнос
 тные лица (руководители высших исполнит
 ельных органов государственной власти) 
 субъектов Российской Федерации.
END:VEVENT
END:VCALENDAR
