BEGIN:VCALENDAR
VERSION:2.0
PRODID:-//kremlin.ru/Kremlin Calendar//RU
METHOD:PUBLISH
URL:http://kremlin.ru/acts/assignments/items/65003/ical-10.ics
BEGIN:VEVENT
SUMMARY:Пр-214\, п.2 а)
DTSTART;VALUE=DATE:20210331
DTEND;VALUE=DATE:20210401
UID:assignment-6906_10@kremlin.ru
DESCRIPTION:2. Правительству Российской Федер
 ации совместно с Центральным банком Рос
 сийской Федерации:а) представить предло
 жения по порядку реализации льготных ип
 отечных программ в 2021–2024 годах\, рассмот
 рев в том числе возможность снижения про
 центной ставки по программе льготной ип
 отеки для семей\, имеющих двух и более де
 тей.Срок – 31 марта 2021 г.\;
END:VEVENT
END:VCALENDAR
