BEGIN:VCALENDAR
VERSION:2.0
PRODID:-//kremlin.ru/Kremlin Calendar//RU
METHOD:PUBLISH
URL:http://kremlin.ru/acts/assignments/items/64947/ical-5.ics
BEGIN:VEVENT
SUMMARY:Пр-127\, п. 4
DTSTART;VALUE=DATE:20210301
DTEND;VALUE=DATE:20210302
UID:assignment-6880_5@kremlin.ru
DESCRIPTION:4. Автономной некоммерческой орга
 низации «Агентство развития профессион
 ального мастерства (Ворлдскиллс Россия)
 » предусмотреть увеличение срока (до тре
 х лет) аккредитации центров проведения д
 емонстрационного экзамена.Срок – 1 март
 а 2021 г. Ответственный: Уразов Р.Н.
END:VEVENT
END:VCALENDAR
