BEGIN:VCALENDAR
VERSION:2.0
PRODID:-//kremlin.ru/Kremlin Calendar//RU
METHOD:PUBLISH
URL:http://kremlin.ru/acts/assignments/items/64947/ical-3.ics
BEGIN:VEVENT
SUMMARY:Пр-127\, п. 2
DTSTART;VALUE=DATE:20210331
DTEND;VALUE=DATE:20210401
UID:assignment-6878_3@kremlin.ru
DESCRIPTION:2. Минпросвещения России совместн
 о с Автономной некоммерческой организац
 ией «Агентство развития профессиональн
 ого мастерства (Ворлдскиллс Россия)» обе
 спечить взаимодействие и координацию ци
 фровых платформ региональных центров оп
 ережающей профессиональной подготовки 
 с платформами агентства.Срок – 31 марта 20
 21 г.\;Ответственный: Кравцов С.С.
END:VEVENT
END:VCALENDAR
