BEGIN:VCALENDAR
VERSION:2.0
PRODID:-//kremlin.ru/Kremlin Calendar//RU
METHOD:PUBLISH
URL:http://kremlin.ru/acts/assignments/items/64947/ical-2.ics
BEGIN:VEVENT
SUMMARY:Пр-127\, п. 1в)
DTSTART;VALUE=DATE:20220901
DTEND;VALUE=DATE:20220902
UID:assignment-6877_2@kremlin.ru
DESCRIPTION:в) обеспечить создание единого от
 крытого электронного ресурса для размещ
 ения в нем на принципах постоянной актуа
 лизации учебников\, учебных пособий и ин
 ых учебно-методических материалов по об
 разовательным программам среднего проф
 ессионального образования.Срок – 1 сент
 ября 2022 г.Ответственный: Мишустин М.В.
END:VEVENT
END:VCALENDAR
