BEGIN:VCALENDAR
VERSION:2.0
PRODID:-//kremlin.ru/Kremlin Calendar//RU
METHOD:PUBLISH
URL:http://kremlin.ru/acts/assignments/items/64947/ical-1.ics
BEGIN:VEVENT
SUMMARY:Пр-127\, п. 1 б)
DTSTART;VALUE=DATE:20210315
DTEND;VALUE=DATE:20210316
UID:assignment-6876_1@kremlin.ru
DESCRIPTION:б) проработать с учетом ранее данн
 ых поручений возможность применения нал
 огоплательщиками инвестиционного налог
 ового вычета в случае осуществления ими 
 пожертвований для обновления материаль
 но-технической базы профессиональных об
 разовательных организаций.Срок – 15 март
 а 2021 г.\;
END:VEVENT
END:VCALENDAR
