BEGIN:VCALENDAR
VERSION:2.0
PRODID:-//kremlin.ru/Kremlin Calendar//RU
METHOD:PUBLISH
URL:http://kremlin.ru/acts/assignments/items/64947/ical-0.ics
BEGIN:VEVENT
SUMMARY:Пр-127\, п. 1 а)
DTSTART;VALUE=DATE:20210315
DTEND;VALUE=DATE:20210316
UID:assignment-6875_0@kremlin.ru
DESCRIPTION:1. Правительству Российской Федер
 ации:а) проработать вопрос о введении еж
 емесячного денежного вознаграждения\, ф
 инансируемого из средств федерального б
 юджета\, для педагогических работников п
 рофессиональных образовательных органи
 заций\, осуществляющих одновременно с пе
 дагогической работой кураторство (класс
 ное руководство) обучающихся.Срок – 15 ма
 рта 2021 г.\;
END:VEVENT
END:VCALENDAR
