BEGIN:VCALENDAR
VERSION:2.0
PRODID:-//kremlin.ru/Kremlin Calendar//RU
METHOD:PUBLISH
URL:http://kremlin.ru/acts/assignments/items/64925/ical-8.ics
BEGIN:VEVENT
SUMMARY:Пр-77\, п.3 е)
DTSTART;VALUE=DATE:20211101
DTEND;VALUE=DATE:20211102
UID:assignment-6868_8@kremlin.ru
DESCRIPTION:е) рассмотреть вопрос о распростр
 анении действия части 2 статьи 1 Федераль
 ного закона «Об обязательных требования
 х в Российской Федерации» на сферы дейст
 вия законодательства Российской Федера
 ции о культуре\, об объектах культурного 
 наследия (памятниках истории и культуры)
  народов Российской Федерации\, о Музейн
 ом фонде Российской Федерации и музеях в
  Российской Федерации\, о библиотечном д
 еле\, об архивном деле\, о вывозе и ввозе к
 ультурных ценностей и представить соотв
 етствующие предложения\;
END:VEVENT
END:VCALENDAR
