BEGIN:VCALENDAR
VERSION:2.0
PRODID:-//kremlin.ru/Kremlin Calendar//RU
METHOD:PUBLISH
URL:http://kremlin.ru/acts/assignments/items/64925/ical-5.ics
BEGIN:VEVENT
SUMMARY:Пр-77\, п.3 в)
DTSTART;VALUE=DATE:20210301
DTEND;VALUE=DATE:20210302
UID:assignment-6865_5@kremlin.ru
DESCRIPTION:в) представить в установленном по
 рядке предложения об образовании федера
 льного органа исполнительной власти\, ос
 уществляющего функции по контролю и над
 зору в сфере государственной охраны кул
 ьтурного наследия народов Российской Фе
 дерации\, руководство деятельностью кот
 орого будет осуществлять Правительство 
 Российской Федерации.Срок – 1 марта 2021 г.
 \;
END:VEVENT
END:VCALENDAR
