BEGIN:VCALENDAR
VERSION:2.0
PRODID:-//kremlin.ru/Kremlin Calendar//RU
METHOD:PUBLISH
URL:http://kremlin.ru/acts/assignments/items/64925/ical-3.ics
BEGIN:VEVENT
SUMMARY:Пр-77\, п.3 а)
DTSTART;VALUE=DATE:20210415
DTEND;VALUE=DATE:20210416
UID:assignment-6863_3@kremlin.ru
DESCRIPTION:3. Правительству Российской Федер
 ации:а) утвердить в рамках реализации на
 ционального проекта «Образование» норм
 ативы охвата детей дополнительными обще
 образовательными программами в области 
 искусств\, в том числе дополнительными п
 редпрофессиональными программами в обл
 асти искусств\, исходя из необходимости 
 охвата такими программами соответствен
 но не менее 14 процентов детей в возрасте 
 от 5 до 18 лет и не менее 12 процентов детей 
 в возрасте от 7 до 15 лет.Срок – 15 апреля 202
 1 г.\;
END:VEVENT
END:VCALENDAR
