BEGIN:VCALENDAR
VERSION:2.0
PRODID:-//kremlin.ru/Kremlin Calendar//RU
METHOD:PUBLISH
URL:http://kremlin.ru/acts/assignments/items/64925/ical-14.ics
BEGIN:VEVENT
SUMMARY:Пр-77\, п.5
DTSTART;VALUE=DATE:20210601
DTEND;VALUE=DATE:20210602
UID:assignment-6874_14@kremlin.ru
DESCRIPTION:5. Минпросвещения России совместн
 о с Минкультуры России рассмотреть вопр
 ос об изучении наследия отечественного 
 кинематографа в рамках реализации основ
 ных общеобразовательных программ.Докла
 д – до 1 июня 2021 г.Ответственные: Кравцов 
 С.С.\, Любимова О.Б.
END:VEVENT
END:VCALENDAR
