BEGIN:VCALENDAR
VERSION:2.0
PRODID:-//kremlin.ru/Kremlin Calendar//RU
METHOD:PUBLISH
URL:http://kremlin.ru/acts/assignments/items/64925/ical-13.ics
BEGIN:VEVENT
SUMMARY:Пр-77\, п.4
DTSTART;VALUE=DATE:20210301
DTEND;VALUE=DATE:20210302
UID:assignment-6873_13@kremlin.ru
DESCRIPTION:4. Правительству Российской Федер
 ации совместно с органами исполнительно
 й власти субъектов Российской Федерации
 \, входящих в состав Дальневосточного фе
 дерального округа\, принять меры\, направ
 ленные на реализацию в 2021–2023 годах разр
 аботанной федеральным государственным 
 бюджетным учреждением культуры «Госуда
 рственный театр наций» программы развит
 ия театрального искусства на Дальнем Во
 стоке.Срок – 1 марта 2021 г.Ответственные: 
 Мишустин М.В.\, высшие должностные лица (р
 уководители высших исполнительных орга
 нов государственной власти) субъектов Р
 оссийской Федерации\, входящих в состав 
 Дальневосточного федерального округа.
END:VEVENT
END:VCALENDAR
