BEGIN:VCALENDAR
VERSION:2.0
PRODID:-//kremlin.ru/Kremlin Calendar//RU
METHOD:PUBLISH
URL:http://kremlin.ru/acts/assignments/items/64900/ical-6.ics
BEGIN:VEVENT
SUMMARY:Пр-45ГС\, п.3 а)
DTSTART;VALUE=DATE:20210401
DTEND;VALUE=DATE:20210402
UID:assignment-6816_6@kremlin.ru
DESCRIPTION:3. Правительству Российской Федер
 ации:а) скорректировать при необходимос
 ти национальные проекты (программы) и го
 сударственные программы\, приведя их в с
 оответствие с Единым планом.Срок – 1 апр
 еля 2021 г.\;
END:VEVENT
END:VCALENDAR
