BEGIN:VCALENDAR
VERSION:2.0
PRODID:-//kremlin.ru/Kremlin Calendar//RU
METHOD:PUBLISH
URL:http://kremlin.ru/acts/assignments/items/64858/ical-4.ics
BEGIN:VEVENT
SUMMARY:Пр-2240\, п.3
DTSTART;VALUE=DATE:20210130
DTEND;VALUE=DATE:20210131
UID:assignment-6773_4@kremlin.ru
DESCRIPTION:3. Рекомендовать Общероссийскому 
 общественному движению «Народный фронт 
 «За Россию» с учётом ранее данных поруче
 ний проанализировать обращения граждан\
 , поступившие в рамках пресс-конференции
  Президента Российской Федерации 17 дека
 бря 2020 г.\, и по результатам такого анализ
 а направить информацию в Администрацию 
 Президента Российской Федерации\, Прави
 тельство Российской Федерации\, заинтер
 есованные федеральные органы исполните
 льной власти и органы исполнительной вл
 асти субъектов Российской Федерации для
  принятия соответствующих решений.Докла
 д – до 30 января 2021 г.Ответственный: Кузне
 цов М.М.
END:VEVENT
END:VCALENDAR
