BEGIN:VCALENDAR
VERSION:2.0
PRODID:-//kremlin.ru/Kremlin Calendar//RU
METHOD:PUBLISH
URL:http://kremlin.ru/acts/assignments/items/64842/ical-3.ics
BEGIN:VEVENT
SUMMARY:Пр-2231\, п.1в
DTSTART;VALUE=DATE:20210201
DTEND;VALUE=DATE:20210202
UID:assignment-6768_3@kremlin.ru
DESCRIPTION:в) представить предложения по упр
 ощению требований к организациям\, котор
 ые вправе дистанционным способом осущес
 твлять розничную торговлю лекарственны
 ми препаратами для медицинского примене
 ния\, отпускаемыми на безрецептурной осн
 ове.Срок – 1 февраля 2021 г.Ответственные: 
 Мишустин М.В.\, Турчак A.A.
END:VEVENT
END:VCALENDAR
