BEGIN:VCALENDAR
VERSION:2.0
PRODID:-//kremlin.ru/Kremlin Calendar//RU
METHOD:PUBLISH
URL:http://kremlin.ru/acts/assignments/items/64842/ical-0.ics
BEGIN:VEVENT
SUMMARY:Пр-2231\, п.1а
DTSTART;VALUE=DATE:20210201
DTEND;VALUE=DATE:20210202
UID:assignment-6765_0@kremlin.ru
DESCRIPTION:1. Правительству Российской Федер
 ации во взаимодействии с Генеральным со
 ветом Всероссийской политической парти
 и «ЕДИНАЯ РОССИЯ»:а) обеспечить продлени
 е беззаявительного порядка предоставле
 ния субсидий на оплату жилого помещения 
 и коммунальных услуг\;
END:VEVENT
END:VCALENDAR
