BEGIN:VCALENDAR
VERSION:2.0
PRODID:-//kremlin.ru/Kremlin Calendar//RU
METHOD:PUBLISH
URL:http://kremlin.ru/acts/assignments/items/64748/ical-8.ics
BEGIN:VEVENT
SUMMARY:Пр-2210\, п.3
DTSTART;VALUE=DATE:20210520
DTEND;VALUE=DATE:20210521
UID:assignment-6747_8@kremlin.ru
DESCRIPTION:3. Минобрнауки России оказать соде
 йствие Образовательному Фонду «Талант и
  успех» в организации ежегодно проводим
 ых мероприятий всероссийской образоват
 ельной инициативы «Сириус.Лето: начни св
 ой проект» с привлечением образовательн
 ых организаций высшего образования и на
 учных организаций.Доклад – до 20 мая 2021 г.
 Ответственный: Фальков В.Н.
END:VEVENT
END:VCALENDAR
